BEGIN:VCALENDAR
VERSION:2.0
PRODID:-//Biskupské gymnázium J. N. Neumanna České Budějovice - ECPv6.15.17.1//NONSGML v1.0//EN
CALSCALE:GREGORIAN
METHOD:PUBLISH
X-WR-CALNAME:Biskupské gymnázium J. N. Neumanna České Budějovice
X-ORIGINAL-URL:https://bigycb.cz/bigy
X-WR-CALDESC:Akce na Biskupské gymnázium J. N. Neumanna České Budějovice
REFRESH-INTERVAL;VALUE=DURATION:PT1H
X-Robots-Tag:noindex
X-PUBLISHED-TTL:PT1H
BEGIN:VTIMEZONE
TZID:Europe/Prague
BEGIN:DAYLIGHT
TZOFFSETFROM:+0100
TZOFFSETTO:+0200
TZNAME:CEST
DTSTART:20250330T010000
END:DAYLIGHT
BEGIN:STANDARD
TZOFFSETFROM:+0200
TZOFFSETTO:+0100
TZNAME:CET
DTSTART:20251026T010000
END:STANDARD
BEGIN:DAYLIGHT
TZOFFSETFROM:+0100
TZOFFSETTO:+0200
TZNAME:CEST
DTSTART:20260329T010000
END:DAYLIGHT
BEGIN:STANDARD
TZOFFSETFROM:+0200
TZOFFSETTO:+0100
TZNAME:CET
DTSTART:20261025T010000
END:STANDARD
BEGIN:DAYLIGHT
TZOFFSETFROM:+0100
TZOFFSETTO:+0200
TZNAME:CEST
DTSTART:20270328T010000
END:DAYLIGHT
BEGIN:STANDARD
TZOFFSETFROM:+0200
TZOFFSETTO:+0100
TZNAME:CET
DTSTART:20271031T010000
END:STANDARD
END:VTIMEZONE
BEGIN:VEVENT
DTSTART;VALUE=DATE:20260411
DTEND;VALUE=DATE:20260426
DTSTAMP:20260424T183020
CREATED:20260409T094352Z
LAST-MODIFIED:20260409T094352Z
UID:11492-1775865600-1777161599@bigycb.cz
SUMMARY:Erasmus+: individuální mobilita do Malagy
DESCRIPTION:
URL:https://bigycb.cz/bigy/kalendar/erasmus-individualni-mobilita-do-malagy/
END:VEVENT
BEGIN:VEVENT
DTSTART;VALUE=DATE:20260423
DTEND;VALUE=DATE:20260425
DTSTAMP:20260424T183020
CREATED:20260409T095743Z
LAST-MODIFIED:20260409T095743Z
UID:11526-1776902400-1777075199@bigycb.cz
SUMMARY:Kurz sebepoznání “Kdo jsem?”
DESCRIPTION:Pro třídu 3.N v Mladé Vožici.
URL:https://bigycb.cz/bigy/kalendar/kurz-sebepoznani-kdo-jsem-3/
END:VEVENT
BEGIN:VEVENT
DTSTART;VALUE=DATE:20260428
DTEND;VALUE=DATE:20260430
DTSTAMP:20260424T183020
CREATED:20260409T095923Z
LAST-MODIFIED:20260409T095923Z
UID:11530-1777334400-1777507199@bigycb.cz
SUMMARY:Kurz sebepoznání “Kdo jsem?”
DESCRIPTION:Pro třídu 1.C v Mladé Vožici.
URL:https://bigycb.cz/bigy/kalendar/kurz-sebepoznani-kdo-jsem-4/
END:VEVENT
BEGIN:VEVENT
DTSTART;VALUE=DATE:20260429
DTEND;VALUE=DATE:20260501
DTSTAMP:20260424T183020
CREATED:20260409T095954Z
LAST-MODIFIED:20260409T095954Z
UID:11532-1777420800-1777593599@bigycb.cz
SUMMARY:JZP – náhradní termíny pro všechny obory
DESCRIPTION:
URL:https://bigycb.cz/bigy/kalendar/jzp-nahradni-terminy-pro-vsechny-obory/
END:VEVENT
BEGIN:VEVENT
DTSTART;VALUE=DATE:20260430
DTEND;VALUE=DATE:20260501
DTSTAMP:20260424T183020
CREATED:20260409T100038Z
LAST-MODIFIED:20260409T100038Z
UID:11534-1777507200-1777593599@bigycb.cz
SUMMARY:Techmánie – Plzeň
DESCRIPTION:Pro třídu 2.A.
URL:https://bigycb.cz/bigy/kalendar/techmanie-plzen-2/
END:VEVENT
END:VCALENDAR